BEGIN:VCALENDAR
VERSION:2.0
PRODID:-//CRISCO - Centre de recherches inter-langues sur la signification en contexte - UR 4255 - ECPv6.15.18//NONSGML v1.0//EN
CALSCALE:GREGORIAN
METHOD:PUBLISH
X-WR-CALNAME:CRISCO - Centre de recherches inter-langues sur la signification en contexte - UR 4255
X-ORIGINAL-URL:https://crisco.unicaen.fr
X-WR-CALDESC:Évènements pour CRISCO - Centre de recherches inter-langues sur la signification en contexte - UR 4255
REFRESH-INTERVAL;VALUE=DURATION:PT1H
X-Robots-Tag:noindex
X-PUBLISHED-TTL:PT1H
BEGIN:VTIMEZONE
TZID:Europe/Paris
BEGIN:DAYLIGHT
TZOFFSETFROM:+0100
TZOFFSETTO:+0200
TZNAME:CEST
DTSTART:20230326T010000
END:DAYLIGHT
BEGIN:STANDARD
TZOFFSETFROM:+0200
TZOFFSETTO:+0100
TZNAME:CET
DTSTART:20231029T010000
END:STANDARD
BEGIN:DAYLIGHT
TZOFFSETFROM:+0100
TZOFFSETTO:+0200
TZNAME:CEST
DTSTART:20240331T010000
END:DAYLIGHT
BEGIN:STANDARD
TZOFFSETFROM:+0200
TZOFFSETTO:+0100
TZNAME:CET
DTSTART:20241027T010000
END:STANDARD
BEGIN:DAYLIGHT
TZOFFSETFROM:+0100
TZOFFSETTO:+0200
TZNAME:CEST
DTSTART:20250330T010000
END:DAYLIGHT
BEGIN:STANDARD
TZOFFSETFROM:+0200
TZOFFSETTO:+0100
TZNAME:CET
DTSTART:20251026T010000
END:STANDARD
END:VTIMEZONE
BEGIN:VEVENT
DTSTART;TZID=Europe/Paris:20240411T140000
DTEND;TZID=Europe/Paris:20240411T160000
DTSTAMP:20260422T195353
CREATED:20230907T122335Z
LAST-MODIFIED:20240312T130853Z
UID:48005-1712844000-1712851200@crisco.unicaen.fr
SUMMARY:L'évidentialité à l'épreuve de la multimodalité dans les annonces du sexe lors des échographies prénatales et des baby shower parties
DESCRIPTION:Conférence de Luca Greco\, professeur à l’Université de Lorraine\, CREM UR 3476\n\n\n\nRésumé\n\n\n\nA partir d’une ethnographie multisites sur les procédés multisémiotiques de fabrication et de visibilité du sexe\, je me pencherai dans cette présentation sur les trajectoires temporelles et multimodales de l’énoncé « c’est une fille »/ « c’est un garçon » de la première échographie prénatale aux baby showers parties (fêtes prénatales)\, des occasions dans lesquelles on annonce à la famille et aux ami.es le sexe de l’enfant juste après l’échographie du deuxième trimestre. \n\n\n\nEn focalisant mon attention sur la dimension linguistique\, interactionnelle et multimodale de l’énoncé « c’est une fille »/ « c’est un garçon »\, je montrerai comment la systématicité du pattern séquentiel « annonce du sexe + séquence de vérification par l’image du sexe » rend compte d’un travail interactionnel et visuel d’évidentialité du sexe dans lequel les participant.es au cours de leurs interactions fabriquent et décomposent les catégories au cours de va-et-vient incessants entre catégories et traits prototypiques. \n\n\n\nCe travail me donnera l’opportunité pour réfléchir à une ethnopragmatique des pratiques de catégorisation dans laquelle les catégories et les traits sont des ressources pour l’action et des outils professionnels pour les participant.es.
URL:https://crisco.unicaen.fr/evenement/levidentialite-a-lepreuve-de-la-multimodalite-dans-les-annonces-du-sexe-lors-des-echographies-prenatales-et-des-baby-shower-parties/
CATEGORIES:Conférence
END:VEVENT
END:VCALENDAR