BEGIN:VCALENDAR
VERSION:2.0
PRODID:-//CRISCO - Centre de recherches inter-langues sur la signification en contexte - UR 4255 - ECPv6.15.18//NONSGML v1.0//EN
CALSCALE:GREGORIAN
METHOD:PUBLISH
X-ORIGINAL-URL:https://crisco.unicaen.fr
X-WR-CALDESC:Évènements pour CRISCO - Centre de recherches inter-langues sur la signification en contexte - UR 4255
REFRESH-INTERVAL;VALUE=DURATION:PT1H
X-Robots-Tag:noindex
X-PUBLISHED-TTL:PT1H
BEGIN:VTIMEZONE
TZID:Europe/Paris
BEGIN:DAYLIGHT
TZOFFSETFROM:+0100
TZOFFSETTO:+0200
TZNAME:CEST
DTSTART:20240331T010000
END:DAYLIGHT
BEGIN:STANDARD
TZOFFSETFROM:+0200
TZOFFSETTO:+0100
TZNAME:CET
DTSTART:20241027T010000
END:STANDARD
BEGIN:DAYLIGHT
TZOFFSETFROM:+0100
TZOFFSETTO:+0200
TZNAME:CEST
DTSTART:20250330T010000
END:DAYLIGHT
BEGIN:STANDARD
TZOFFSETFROM:+0200
TZOFFSETTO:+0100
TZNAME:CET
DTSTART:20251026T010000
END:STANDARD
BEGIN:DAYLIGHT
TZOFFSETFROM:+0100
TZOFFSETTO:+0200
TZNAME:CEST
DTSTART:20260329T010000
END:DAYLIGHT
BEGIN:STANDARD
TZOFFSETFROM:+0200
TZOFFSETTO:+0100
TZNAME:CET
DTSTART:20261025T010000
END:STANDARD
END:VTIMEZONE
BEGIN:VEVENT
DTSTART;TZID=Europe/Paris:20250327T140000
DTEND;TZID=Europe/Paris:20250327T160000
DTSTAMP:20260421T110636
CREATED:20240916T130551Z
LAST-MODIFIED:20250317T093538Z
UID:48874-1743084000-1743091200@crisco.unicaen.fr
SUMMARY:Du mouvement à l’existence – petit voyage avec le verbe arriver
DESCRIPTION:Laure SARDA \n\n\n\n\n\nChargée de Recherche\, Lattice (UMR 8094\, ENS / Sorbonne Nouvelle) \n\n\n\nRésumé \n\n\n\nLe verbe arriver possède des propriétés syntaxiques et sémantiques qui nous permettent d’explorer divers aspects linguistiques. À travers la variation des constructions\, deux domaines sémantiques émergent\, le mouvement d’un côté et l’existence ou l’apparition de l’autre. Nous montrerons comment l’inaccusativité et la télicité du verbe sont à l’origine de la proximité sémantique de ces deux domaines.
URL:https://crisco.unicaen.fr/evenement/seminaire-de-laure-sarda/
CATEGORIES:Conférence
END:VEVENT
END:VCALENDAR