BEGIN:VCALENDAR
VERSION:2.0
PRODID:-//CRISCO - Centre de recherches inter-langues sur la signification en contexte - UR 4255 - ECPv6.15.18//NONSGML v1.0//EN
CALSCALE:GREGORIAN
METHOD:PUBLISH
X-ORIGINAL-URL:https://crisco.unicaen.fr
X-WR-CALDESC:Évènements pour CRISCO - Centre de recherches inter-langues sur la signification en contexte - UR 4255
REFRESH-INTERVAL;VALUE=DURATION:PT1H
X-Robots-Tag:noindex
X-PUBLISHED-TTL:PT1H
BEGIN:VTIMEZONE
TZID:Europe/Paris
BEGIN:DAYLIGHT
TZOFFSETFROM:+0100
TZOFFSETTO:+0200
TZNAME:CEST
DTSTART:20240331T010000
END:DAYLIGHT
BEGIN:STANDARD
TZOFFSETFROM:+0200
TZOFFSETTO:+0100
TZNAME:CET
DTSTART:20241027T010000
END:STANDARD
BEGIN:DAYLIGHT
TZOFFSETFROM:+0100
TZOFFSETTO:+0200
TZNAME:CEST
DTSTART:20250330T010000
END:DAYLIGHT
BEGIN:STANDARD
TZOFFSETFROM:+0200
TZOFFSETTO:+0100
TZNAME:CET
DTSTART:20251026T010000
END:STANDARD
BEGIN:DAYLIGHT
TZOFFSETFROM:+0100
TZOFFSETTO:+0200
TZNAME:CEST
DTSTART:20260329T010000
END:DAYLIGHT
BEGIN:STANDARD
TZOFFSETFROM:+0200
TZOFFSETTO:+0100
TZNAME:CET
DTSTART:20261025T010000
END:STANDARD
END:VTIMEZONE
BEGIN:VEVENT
DTSTART;TZID=Europe/Paris:20250313T090000
DTEND;TZID=Europe/Paris:20250313T163000
DTSTAMP:20260425T152904
CREATED:20250306T160804Z
LAST-MODIFIED:20250307T100756Z
UID:49405-1741856400-1741883400@crisco.unicaen.fr
SUMMARY:Détournements Renouvellements
DESCRIPTION:Journée d’étude organisée par les étudiants des masters LLCR. Etudes culturelles et Linguistique multilingue \n\n\n\nAffiche et programme de la journée d’étude\n\n\n\nAffiche JE (Portrait (pdf · 963 Ko)Télécharger (pdf · 963 Ko)\n\n\n\nProgramme JE (pdf · 2 Mo)Télécharger (pdf · 2 Mo)
URL:https://crisco.unicaen.fr/evenement/detournements-renouvellements/
CATEGORIES:Journée d'étude
END:VEVENT
END:VCALENDAR