BEGIN:VCALENDAR
VERSION:2.0
PRODID:-//CRISCO - Centre de recherches inter-langues sur la signification en contexte - UR 4255 - ECPv6.15.18//NONSGML v1.0//EN
CALSCALE:GREGORIAN
METHOD:PUBLISH
X-WR-CALNAME:CRISCO - Centre de recherches inter-langues sur la signification en contexte - UR 4255
X-ORIGINAL-URL:https://crisco.unicaen.fr
X-WR-CALDESC:Évènements pour CRISCO - Centre de recherches inter-langues sur la signification en contexte - UR 4255
REFRESH-INTERVAL;VALUE=DURATION:PT1H
X-Robots-Tag:noindex
X-PUBLISHED-TTL:PT1H
BEGIN:VTIMEZONE
TZID:Europe/Paris
BEGIN:DAYLIGHT
TZOFFSETFROM:+0100
TZOFFSETTO:+0200
TZNAME:CEST
DTSTART:20230326T010000
END:DAYLIGHT
BEGIN:STANDARD
TZOFFSETFROM:+0200
TZOFFSETTO:+0100
TZNAME:CET
DTSTART:20231029T010000
END:STANDARD
BEGIN:DAYLIGHT
TZOFFSETFROM:+0100
TZOFFSETTO:+0200
TZNAME:CEST
DTSTART:20240331T010000
END:DAYLIGHT
BEGIN:STANDARD
TZOFFSETFROM:+0200
TZOFFSETTO:+0100
TZNAME:CET
DTSTART:20241027T010000
END:STANDARD
BEGIN:DAYLIGHT
TZOFFSETFROM:+0100
TZOFFSETTO:+0200
TZNAME:CEST
DTSTART:20250330T010000
END:DAYLIGHT
BEGIN:STANDARD
TZOFFSETFROM:+0200
TZOFFSETTO:+0100
TZNAME:CET
DTSTART:20251026T010000
END:STANDARD
END:VTIMEZONE
BEGIN:VEVENT
DTSTART;TZID=Europe/Paris:20241121T100000
DTEND;TZID=Europe/Paris:20241121T160000
DTSTAMP:20260422T071521
CREATED:20241113T165627Z
LAST-MODIFIED:20241120T085732Z
UID:49031-1732183200-1732204800@crisco.unicaen.fr
SUMMARY:aTALiers #3
DESCRIPTION:Le Langage Naturel sous tous ses états\n\n\n\n\n\n\n\n18 présentations courtes de recherche sur Humour\, Santé mentale\, Handicap cognitif\, Handicap visuel\, LLM\, Désinformation\, Phonétique\, Orthophonie\, Bien-être\, etc. par les Masterants et Doctorants du Laboratoire GREYC (Laboraratoire de Recherche en Sciences du Numérique à l’Université de Caen) à destination des M1 et M2 Sciences du Langage. La journée sera l’occasion de découvrir les opportunités de stage au Laboratoire GRAYC.  \n\n\n\nProgramme à télécharger: \n\n\n\naTALiers-3_Final (pdf · 281 Ko)Télécharger (pdf · 281 Ko)
URL:https://crisco.unicaen.fr/evenement/ataliers-3/
LOCATION:Caen · Campus 1 · CRISCO · Bibliothèque · Salle SA-S13\, Centre de recherche CRISCO\, Caen\, 14000\, France
CATEGORIES:Journée d'étude
END:VEVENT
END:VCALENDAR