BEGIN:VCALENDAR
VERSION:2.0
PRODID:-//CRISCO - Centre de recherches inter-langues sur la signification en contexte - UR 4255 - ECPv6.15.18//NONSGML v1.0//EN
CALSCALE:GREGORIAN
METHOD:PUBLISH
X-WR-CALNAME:CRISCO - Centre de recherches inter-langues sur la signification en contexte - UR 4255
X-ORIGINAL-URL:https://crisco.unicaen.fr
X-WR-CALDESC:Évènements pour CRISCO - Centre de recherches inter-langues sur la signification en contexte - UR 4255
REFRESH-INTERVAL;VALUE=DURATION:PT1H
X-Robots-Tag:noindex
X-PUBLISHED-TTL:PT1H
BEGIN:VTIMEZONE
TZID:Europe/Paris
BEGIN:DAYLIGHT
TZOFFSETFROM:+0100
TZOFFSETTO:+0200
TZNAME:CEST
DTSTART:20230326T010000
END:DAYLIGHT
BEGIN:STANDARD
TZOFFSETFROM:+0200
TZOFFSETTO:+0100
TZNAME:CET
DTSTART:20231029T010000
END:STANDARD
BEGIN:DAYLIGHT
TZOFFSETFROM:+0100
TZOFFSETTO:+0200
TZNAME:CEST
DTSTART:20240331T010000
END:DAYLIGHT
BEGIN:STANDARD
TZOFFSETFROM:+0200
TZOFFSETTO:+0100
TZNAME:CET
DTSTART:20241027T010000
END:STANDARD
BEGIN:DAYLIGHT
TZOFFSETFROM:+0100
TZOFFSETTO:+0200
TZNAME:CEST
DTSTART:20250330T010000
END:DAYLIGHT
BEGIN:STANDARD
TZOFFSETFROM:+0200
TZOFFSETTO:+0100
TZNAME:CET
DTSTART:20251026T010000
END:STANDARD
END:VTIMEZONE
BEGIN:VEVENT
DTSTART;TZID=Europe/Paris:20241114T140000
DTEND;TZID=Europe/Paris:20241114T160000
DTSTAMP:20260424T140417
CREATED:20240916T115901Z
LAST-MODIFIED:20240916T121511Z
UID:48868-1731592800-1731600000@crisco.unicaen.fr
SUMMARY:Comparaison de deux pictogrammes exprimant le rire dans les conversations Twitter : l’émoticône « xD » et l’émoji «😂»
DESCRIPTION:Séminaire de Sandra Marion (Crisco)\n\n\n\nLe rire\, bien qu’étant une pratique universelle\, reste peu étudié dans le domaine de la linguistique\, car il est qualifié de paralinguistique. Pourtant\, celui-ci ne se retrouve pas seulement dans des contextes humoristiques\, mais participe à la régulation des interactions et à la construction du sens\, notamment par l’ironie ou le sarcasme. \n\n\n\nAvec l’essor des réseaux sociaux\, le domaine des communications médiées par ordinateur (CMO) s’intéresse à un mode de communication multimodal\, mélangeant des structures textuelles et visuelles\, et notamment les pictogrammes tels que les émoticônes et les émojis. Certains travaux en CMO s’intéressent aux marqueurs du rire\, comme Petitjean & Morel (2017) sur le marqueur haha et lol\, Sampietro (2021) sur l’émoji « 😂 » dans des échanges sur WhatsApp\, ou Yus (2023) sur une variété de marqueurs. Par ailleurs\, des études ont analysé la compétition entre émoticône et émoji\, montrant que les émojis ont majoritairement remplacé les émoticônes (Pavalanathan & Eisenstein 2016\, Prada et al. 2018). \n\n\n\nDans cette présentation je me propose de comparer le comportement de deux pictogrammes qui habituellement expriment le rire\, mais sous deux modalités différentes\, l’une textuelle\, l’autre visuelle : l’émoticône « xD » et l’émoji « 😂 ». À partir d’un corpus de conversations sur Twitter\, je montre dans un premier temps en quoi ces deux pictogrammes tentent de reproduire les fonctions (expressive\, interprétative\, relationnelle) et la position du rire dans des interactions en face à face. Je m’intéresse ensuite à une potentielle compétition entre les deux. Bien qu’ayant la même fonction principale expressive\, les deux pictogrammes semblent avoir des différences d’utilisation\, notamment pour l’émoticône où les situations de préservation de la face semblent plus fréquentes.
URL:https://crisco.unicaen.fr/evenement/comparaison-de-deux-pictogrammes-exprimant-le-rire-dans-les-conversations-twitter-lemoticone-xd-et-lemoji-%f0%9f%98%82/
LOCATION:Caen · Campus 1 · CRISCO · Salle de documentation\, Centre de recherche CRISCO\, Caen\, 14000\, France
CATEGORIES:Séminaire
END:VEVENT
END:VCALENDAR