BEGIN:VCALENDAR
VERSION:2.0
PRODID:-//CRISCO - Centre de recherches inter-langues sur la signification en contexte - UR 4255 - ECPv6.15.18//NONSGML v1.0//EN
CALSCALE:GREGORIAN
METHOD:PUBLISH
X-ORIGINAL-URL:https://crisco.unicaen.fr
X-WR-CALDESC:Évènements pour CRISCO - Centre de recherches inter-langues sur la signification en contexte - UR 4255
REFRESH-INTERVAL;VALUE=DURATION:PT1H
X-Robots-Tag:noindex
X-PUBLISHED-TTL:PT1H
BEGIN:VTIMEZONE
TZID:Europe/Paris
BEGIN:DAYLIGHT
TZOFFSETFROM:+0100
TZOFFSETTO:+0200
TZNAME:CEST
DTSTART:20230326T010000
END:DAYLIGHT
BEGIN:STANDARD
TZOFFSETFROM:+0200
TZOFFSETTO:+0100
TZNAME:CET
DTSTART:20231029T010000
END:STANDARD
BEGIN:DAYLIGHT
TZOFFSETFROM:+0100
TZOFFSETTO:+0200
TZNAME:CEST
DTSTART:20240331T010000
END:DAYLIGHT
BEGIN:STANDARD
TZOFFSETFROM:+0200
TZOFFSETTO:+0100
TZNAME:CET
DTSTART:20241027T010000
END:STANDARD
BEGIN:DAYLIGHT
TZOFFSETFROM:+0100
TZOFFSETTO:+0200
TZNAME:CEST
DTSTART:20250330T010000
END:DAYLIGHT
BEGIN:STANDARD
TZOFFSETFROM:+0200
TZOFFSETTO:+0100
TZNAME:CET
DTSTART:20251026T010000
END:STANDARD
END:VTIMEZONE
BEGIN:VEVENT
DTSTART;TZID=Europe/Paris:20241018T090000
DTEND;TZID=Europe/Paris:20241018T170000
DTSTAMP:20260425T152625
CREATED:20241001T101344Z
LAST-MODIFIED:20250221T081422Z
UID:48928-1729242000-1729270800@crisco.unicaen.fr
SUMMARY:Les corpus d’oral en interaction : outils\, méthodes et objectifs
DESCRIPTION:Atelier organisé par T. Ruchot\, N. Romanova et R. Ziane\n\n\n\n\n\nProgramme\n\n\n\n9:00-9:30 Thierry RuchotLes corpus d’oral en interaction : pourquoi sont-ils importants et comment les obtenir ? \n\n\n\n\n9:30-10:30 Benjamin Laillier\, Selma Turalic\, Amélie GuesnonLes enjeux juridiques de la collecte\, la mise à disposition et l’archivage des données orales \n\n\n\n\n10:45-11:00 Thierry RuchotTypes de transcription \n\n\n\n11:00-11:15 Rayan ZianeTranscription automatique : problèmes et perspectives \n\n\n\n11:15-12:15 Yanka BezinskaLogiciel Elan pour la transcription des corpus oraux \n\n\n\n12:15-14:00 Pause repas \n\n\n\n14:00-16:00 Philippe Martin \n\n\n\n\nOutils pour l’analyse prosodique : Praat et WinPitch\nL’atelier consacré aux logiciels Praat et WinPitch portera sur les applications de l’analyse acoustique de la parole en phonétique et en phonologie\, et en particulier sur l’intonation de la phrase. En parcourant les utilisations des plus simples aux plus complexes\, on se focalisera sur l’annotation prosodique selon différentes fonctions et modèles. \n\n\n\nPoints abordés : transcription orthographique manuelle et automatique\, segmentation automatique en groupes accentuels\, en mots et en phones\, mesure de la fréquence fondamentale\, annotation prosodique\, concordancier pour grands corpus oraux\, synthèse et morphing prosodique… \n\n\n\nTéléchargement conseillé : Download WinPitch installation file (zip) sur www.winpitch.com (Windows ou Mac avec BootCamp ou équivalent). \n\n\n\nLa séance est proposée par Philippe Martin\, linguiste. Dr. ès Sciences\, Dr. Linguistique\, Philippe Martin a enseigné aux Universités de Toronto\, d’Aix-en-Provence et au Département de Linguistique de l’Université Paris Diderot (aujourd’hui Paris Cité)\, dont il a été directeur de 2004 à 2012. Il a publié de nombreux articles sur la phonologie et la phonétique de l’intonation ainsi que sur l’analyse acoustique de la parole. Ses derniers ouvrages sont Speech Acoustic Analysis (Wiley : 2021)\, Analyse acoustique de la parole (ISTE : 2020)\, Intonation\, structure prosodique et ondes cérébrales (ISTE : 2018)\, The Structure of Spoken Language (Cambridge : 2015). Il a également développé des dispositifs matériels et logiciels pour l’analyse prosodique de grands corpus oraux (WinPitch). Il travaille actuellement sur le traitement neuronal de la structure prosodique dans la parole. Il a reçu en 2018 le titre de Docteur Honoris Causa de l’Université Charles\, à Prague. \n\n\n\n\n\n16:00-17:00 Table ronde (Salle de la documentation\, CRISCO) \n\n\n\n \n\n\n\n \n\n\n\n \n\n\n\n \n\n\n\nCet atelier s’adresse à des linguistes en activité\, des doctorants ou des étudiants de master ayant un intérêt pour la linguistique de l’oral\, notamment l’oral en interaction\, et pour la création de corpus de ce type. \n\n\n\n\nArgumentaire de l’atelier Corpus d’oral\nLa création de corpus d’oral représente aujourd’hui un véritable défi aussi bien du point de vue théorique\, que du point de vue pratique : pour le traitement automatique de données et le dialogue homme-machine\, pour la linguistique clinique\, qui a besoin d’observer du langage typique comme du langage pathologique\, ou encore pour l’acquisition et la didactique des langues. Alors que l’on dispose déjà d’un nombre important de corpus écrits informatisés de toutes sortes : diachroniques ou synchroniques\, unilingues\, parallèles ou comparables\, généraux\, littéraires\, journalistiques\, techniques\, de Web\, de réseaux sociaux et de SMS\, de productions écrites d’enfants et d’adolescents ou d’étrangers apprenant une langue seconde ou étrangère\, de scripts de films et séries\, etc.\, les corpus d’oral occupent encore une place assez modeste. De plus\, si les corpus écrits sont mis à disposition essentiellement sous forme de concordanciers\, qui ne donnent pas accès à l’intégralité des textes inclus dans le corpus\, pour l’oral il est utile d’avoir un double accès : soit par concordancier\, pour des recherches sur des points particuliers et l’établissement de calculs de fréquences\, soit à l’intégralité des interactions transcrites\, éventuellement avec le support enregistré pour pouvoir réaliser une étude qualitative de l’interaction et essayer d’en comprendre les mécanismes. Si l’on peut recueillir de nombreuses données orales sur une plateforme comme YouTube\, outre les questions de droits\, ces données ne représenteront que certains genres spécifiques : bulletins d’information et commentaires\, tutoriels\, conférences\, cours\, interviews\, débats\, mais très peu les interactions quotidiennes en lieux de services : consultations\, réunions\, entretiens professionnels\, et encore moins les conversations les plus quotidiennes\, celles qui constituent l’essentiel de notre pratique orale quotidienne\, pour peu que nous ayons un minimum de lien social. \n\n\n\nBeaucoup de chercheurs hésitent à aborder l’oral\, parce qu’ils se posent de nombreuses questions : quels types de corpus d’oral peut-on développer et à quelles fins ? dans quels domaines sont-ils utiles ? comment procéder ? comment obtenir des données ? quelles obligations légales et éthiques s’imposent lorsqu’on réalise des enregistrements d’oral en interaction\, à l’heure où la question de la protection des données personnelles est centrale ? comment transcrire les corpus et pour quels objectifs ? quel rôle accorder à la prosodie\, notamment à l’intonation ? que faire de la multimodalité ? comment analyser l’oral en interaction ? \n\n\n\nIl y a plusieurs raisons à cela. Tout d’abord la difficulté d’accès aux données de l’oral : au préalable il faut trouver des personnes volontaires pour être enregistrées et réaliser les enregistrements dans de bonnes conditions\, en essayant de créer les conditions pour avoir une interaction la plus naturelle que possible. Puis\, il faudra transcrire les paroles et\, éventuellement\, les gestes et les mimiques qui accompagnent la production verbale. Il faudra également réaliser une analyse de la prosodie en utilisant des programmes que beaucoup de chercheurs ont des appréhensions à utiliser. Ensuite\, il faudra analyser ces données en utilisant des modèles linguistiques adaptés\, sachant que\, la plupart du temps\, les modèles développées jusqu’ici se sont concentrés beaucoup plus sur l’écrit\, et présentent des défauts et lacunes à l’heure d’aborder l’oral\, particulièrement l’oral en interaction avec alternance de tours de parole. \n\n\n\nCet atelier visera à donner des pistes de réponse à plusieurs de ces questions\, notamment les questions légales et méthodologiques\, sans lesquels aucune tâche d’analyse des données ne peut être envisagée. La visée de cet atelier sur l’interaction est également… interactive\, dans la mesure où l’échange sera favorisé durant tout l’atelier et où il se clora sur une table ronde\, dans laquelle chacun sera invité à présenter ses impressions\, ses projets\, déjà achevés\, en cours\, bourgeonnants ou naissants\, ses idées et intérêts\, même encore vagues. \n\n\n\n\n\n\n\n\n\nLes-corpus-oraux_CRISCO-Programme (pdf · 109 Ko)Télécharger (pdf · 109 Ko)
URL:https://crisco.unicaen.fr/evenement/atelier-corpus-oraux-en-interaction/
LOCATION:Caen · Campus 1 · Bâtiment L · Amphi Pierre-Simon Laplace\, ESIX Normandie\, département agro-alimentaire\, Caen\, 14000\, France
CATEGORIES:Journée d'étude
END:VEVENT
END:VCALENDAR