BEGIN:VCALENDAR
VERSION:2.0
PRODID:-//CRISCO - Centre de recherches inter-langues sur la signification en contexte - UR 4255 - ECPv6.15.18//NONSGML v1.0//EN
CALSCALE:GREGORIAN
METHOD:PUBLISH
X-WR-CALNAME:CRISCO - Centre de recherches inter-langues sur la signification en contexte - UR 4255
X-ORIGINAL-URL:https://crisco.unicaen.fr
X-WR-CALDESC:Évènements pour CRISCO - Centre de recherches inter-langues sur la signification en contexte - UR 4255
REFRESH-INTERVAL;VALUE=DURATION:PT1H
X-Robots-Tag:noindex
X-PUBLISHED-TTL:PT1H
BEGIN:VTIMEZONE
TZID:Europe/Paris
BEGIN:DAYLIGHT
TZOFFSETFROM:+0100
TZOFFSETTO:+0200
TZNAME:CEST
DTSTART:20230326T010000
END:DAYLIGHT
BEGIN:STANDARD
TZOFFSETFROM:+0200
TZOFFSETTO:+0100
TZNAME:CET
DTSTART:20231029T010000
END:STANDARD
BEGIN:DAYLIGHT
TZOFFSETFROM:+0100
TZOFFSETTO:+0200
TZNAME:CEST
DTSTART:20240331T010000
END:DAYLIGHT
BEGIN:STANDARD
TZOFFSETFROM:+0200
TZOFFSETTO:+0100
TZNAME:CET
DTSTART:20241027T010000
END:STANDARD
BEGIN:DAYLIGHT
TZOFFSETFROM:+0100
TZOFFSETTO:+0200
TZNAME:CEST
DTSTART:20250330T010000
END:DAYLIGHT
BEGIN:STANDARD
TZOFFSETFROM:+0200
TZOFFSETTO:+0100
TZNAME:CET
DTSTART:20251026T010000
END:STANDARD
END:VTIMEZONE
BEGIN:VEVENT
DTSTART;TZID=Europe/Paris:20240920T141500
DTEND;TZID=Europe/Paris:20240920T173000
DTSTAMP:20260422T071537
CREATED:20240613T110850Z
LAST-MODIFIED:20240904T110555Z
UID:48713-1726841700-1726853400@crisco.unicaen.fr
SUMMARY:Word Order Change Seminar (en ligne)
DESCRIPTION:Pour marquer la fin du projet ANR-DFG MICLE\, un séminaire de recherche en ligne\, sur le thème de l’évolution de l’ordre des mots dans la langue\, est organisé en ligne (via Zoom) le 20 septembre 2024\, de 14h15 à 17h30. \n\n\n\nRetrouvez le programme du séminaire\, ainsi que les informations de connexions\, dans le fichier ci-dessous : \n\n\n\nWord-Order-Change-Seminar_Programme-3 (pdf · 107 Ko)Télécharger (pdf · 107 Ko)
URL:https://crisco.unicaen.fr/evenement/word-order-change-seminar-en-ligne/
LOCATION:En ligne (zoom)
CATEGORIES:Séminaire
END:VEVENT
END:VCALENDAR