BEGIN:VCALENDAR
VERSION:2.0
PRODID:-//CRISCO - Centre de recherches inter-langues sur la signification en contexte - UR 4255 - ECPv6.15.18//NONSGML v1.0//EN
CALSCALE:GREGORIAN
METHOD:PUBLISH
X-ORIGINAL-URL:https://crisco.unicaen.fr
X-WR-CALDESC:Évènements pour CRISCO - Centre de recherches inter-langues sur la signification en contexte - UR 4255
REFRESH-INTERVAL;VALUE=DURATION:PT1H
X-Robots-Tag:noindex
X-PUBLISHED-TTL:PT1H
BEGIN:VTIMEZONE
TZID:Europe/Paris
BEGIN:DAYLIGHT
TZOFFSETFROM:+0100
TZOFFSETTO:+0200
TZNAME:CEST
DTSTART:20230326T010000
END:DAYLIGHT
BEGIN:STANDARD
TZOFFSETFROM:+0200
TZOFFSETTO:+0100
TZNAME:CET
DTSTART:20231029T010000
END:STANDARD
BEGIN:DAYLIGHT
TZOFFSETFROM:+0100
TZOFFSETTO:+0200
TZNAME:CEST
DTSTART:20240331T010000
END:DAYLIGHT
BEGIN:STANDARD
TZOFFSETFROM:+0200
TZOFFSETTO:+0100
TZNAME:CET
DTSTART:20241027T010000
END:STANDARD
BEGIN:DAYLIGHT
TZOFFSETFROM:+0100
TZOFFSETTO:+0200
TZNAME:CEST
DTSTART:20250330T010000
END:DAYLIGHT
BEGIN:STANDARD
TZOFFSETFROM:+0200
TZOFFSETTO:+0100
TZNAME:CET
DTSTART:20251026T010000
END:STANDARD
END:VTIMEZONE
BEGIN:VEVENT
DTSTART;TZID=Europe/Paris:20240307T140000
DTEND;TZID=Europe/Paris:20240307T160000
DTSTAMP:20260421T212044
CREATED:20230907T121852Z
LAST-MODIFIED:20240129T142515Z
UID:48001-1709820000-1709827200@crisco.unicaen.fr
SUMMARY:Vers une histoire de la linguistique cognitive américaine
DESCRIPTION:Jean-Michel FORTIS\, Université Paris Cité & Université Sorbonne Nouvelle\, CNRS\, Laboratoire d’histoire des théories linguistiques \n\n\n\n\n\n\n\n \n\n\n\n \n\n\n\n\n\n\n\n\n\n\n\n\n\nRésumé\n\n\n\nCet exposé propose de revenir aux origines de la linguistique cognitive américaine et de décrire la formation du « réseau théorique » qui lui a procuré une relative unité.Les protagonistes de cette histoire\, Lakoff\, Langacker\, Talmy et Fauconnier sont tous passés par la grammaire transformationnelle\, avant de s’affilier\, de plus ou moins près\, au mouvement de la sémantique générative. Les partisans de ce mouvement pensaient ne faire qu’élargir la brèche sémantique ouverte par la grammaire transformationnelle\, mais se trouvèrent combattus par Chomsky et ceux qui étaient alors ses compagnons de route\, comme Jackendoff. Cette scission qui aboutit à la défaite de la sémantique générative conduisit ses anciens tenants soit à faire évoluer leurs modèles (ainsi Langacker et Talmy)\, soit à papilllonner pour changer ensuite de thématique (comme Lakoff)\, soit à élaborer une théorie intégrant de nombreuses problématiques issues de la linguistique\, de la philosophie et de la pragmatique des années 1970-1980 (chez Fauconnier). Cette évolution a permis la formation d’un réseau théorique qui\, en faisant circuler les problèmes et les outils conceptuels\, s’est doté d’une certaine cohérence\, signalée par l’étiquette de « linguistique cognitive ».
URL:https://crisco.unicaen.fr/evenement/conference-de-jean-michel-fortis-chercheur-au-cnrs/
LOCATION:Caen · Campus 1 · Maison de la recherche en sciences humaines (MRSH) · Amphi\, Campus 1\, Maison de la recherche en sciences humaines (MRSH)\, 1 Esplanade de la Paix\, Caen\, 14000\, France
CATEGORIES:Conférence
END:VEVENT
END:VCALENDAR