BEGIN:VCALENDAR
VERSION:2.0
PRODID:-//CRISCO - Centre de recherches inter-langues sur la signification en contexte - UR 4255 - ECPv6.15.18//NONSGML v1.0//EN
CALSCALE:GREGORIAN
METHOD:PUBLISH
X-ORIGINAL-URL:https://crisco.unicaen.fr
X-WR-CALDESC:Évènements pour CRISCO - Centre de recherches inter-langues sur la signification en contexte - UR 4255
REFRESH-INTERVAL;VALUE=DURATION:PT1H
X-Robots-Tag:noindex
X-PUBLISHED-TTL:PT1H
BEGIN:VTIMEZONE
TZID:Europe/Paris
BEGIN:DAYLIGHT
TZOFFSETFROM:+0100
TZOFFSETTO:+0200
TZNAME:CEST
DTSTART:20220327T010000
END:DAYLIGHT
BEGIN:STANDARD
TZOFFSETFROM:+0200
TZOFFSETTO:+0100
TZNAME:CET
DTSTART:20221030T010000
END:STANDARD
BEGIN:DAYLIGHT
TZOFFSETFROM:+0100
TZOFFSETTO:+0200
TZNAME:CEST
DTSTART:20230326T010000
END:DAYLIGHT
BEGIN:STANDARD
TZOFFSETFROM:+0200
TZOFFSETTO:+0100
TZNAME:CET
DTSTART:20231029T010000
END:STANDARD
BEGIN:DAYLIGHT
TZOFFSETFROM:+0100
TZOFFSETTO:+0200
TZNAME:CEST
DTSTART:20240331T010000
END:DAYLIGHT
BEGIN:STANDARD
TZOFFSETFROM:+0200
TZOFFSETTO:+0100
TZNAME:CET
DTSTART:20241027T010000
END:STANDARD
END:VTIMEZONE
BEGIN:VEVENT
DTSTART;TZID=Europe/Paris:20231130T140000
DTEND;TZID=Europe/Paris:20231130T170000
DTSTAMP:20260425T152625
CREATED:20231113T150334Z
LAST-MODIFIED:20231120T125356Z
UID:48123-1701352800-1701363600@crisco.unicaen.fr
SUMMARY:Les décalages rythme / sens dans les discours écrits et oraux et en particulier dans la poésie française versifiée (Eliane Delente)
DESCRIPTION:Séminaire d’Eliane DELENTE (Université de Caen Normandie\, CRISCO) \n\n\n\nLa tradition poétique a toujours reconnu les décalages rythme / sens tels que l’enjambement\, le rejet et le contre-rejet\, qui n’ont cessé d’être étudiés dans leur particularité\, au sein d’un poème particulier. Mais cette question n’a pas encore été constituée en véritable objet théorique. Toutefois\, depuis quelques années\, des programmes de repérage de ces décalages\, automatisés ou non\, se développent progressivement. \n\n\n\nDans une première partie\, j’exposerai brièvement l’objet du projet que je développe au sein du Crisco. \n\n\n\nDans une seconde partie\, je discuterai l’approche dominante aujourd’hui\, issue de la phonologie métrique post-générative\, en termes de concordance entre structure métrique et structure syntaxique\, en soulignant ses faiblesses et les problèmes qu’elle soulève. \n\n\n\nDans une troisième partie\, je présenterai une approche alternative\, en essayant de penser le discours poétique autrement que comme une île détachée du continent « discours ». Partant du fait que tout discours est rythmé\, et que le discours poétique se distingue par ses régularités rythmiques systématiques\, je montrerai qu’il est souhaitable d’envisager un traitement unifié\, avant d’aborder les spécificités. \n\n\n\nLe rythme\, « manière particulière de fluer »\, impose d’envisager le discours\, non comme un produit fini mais comme une action en cours\, se déroulant dans le temps. Dans ce cadre\, nous verrons pourquoi les constituants linguistiques (prosodiques\, syntaxiques) se développent le plus souvent de manière synchrone\, pourquoi il leur est également possible de se développer de manière asynchrone. Puis nous verrons comment ces constituants linguistiques interagissent avec les régularités métriques. \n\n\n\nJe terminerai par l’analyse d’un exemple poétique illustrant cette approche.
URL:https://crisco.unicaen.fr/evenement/les-decalages-rythme-sens-dans-les-discours-ecrits-et-oraux-et-en-particulier-dans-la-poesie-francaise-versifiee-eliane-delente/
LOCATION:Caen · Campus 1 · CRISCO · Salle de documentation\, Centre de recherche CRISCO\, Caen\, 14000\, France
CATEGORIES:Séminaire
END:VEVENT
END:VCALENDAR