BEGIN:VCALENDAR
VERSION:2.0
PRODID:-//CRISCO - Centre de recherches inter-langues sur la signification en contexte - UR 4255 - ECPv6.15.18//NONSGML v1.0//EN
CALSCALE:GREGORIAN
METHOD:PUBLISH
X-WR-CALNAME:CRISCO - Centre de recherches inter-langues sur la signification en contexte - UR 4255
X-ORIGINAL-URL:https://crisco.unicaen.fr
X-WR-CALDESC:Évènements pour CRISCO - Centre de recherches inter-langues sur la signification en contexte - UR 4255
REFRESH-INTERVAL;VALUE=DURATION:PT1H
X-Robots-Tag:noindex
X-PUBLISHED-TTL:PT1H
BEGIN:VTIMEZONE
TZID:Europe/Paris
BEGIN:DAYLIGHT
TZOFFSETFROM:+0100
TZOFFSETTO:+0200
TZNAME:CEST
DTSTART:20220327T010000
END:DAYLIGHT
BEGIN:STANDARD
TZOFFSETFROM:+0200
TZOFFSETTO:+0100
TZNAME:CET
DTSTART:20221030T010000
END:STANDARD
BEGIN:DAYLIGHT
TZOFFSETFROM:+0100
TZOFFSETTO:+0200
TZNAME:CEST
DTSTART:20230326T010000
END:DAYLIGHT
BEGIN:STANDARD
TZOFFSETFROM:+0200
TZOFFSETTO:+0100
TZNAME:CET
DTSTART:20231029T010000
END:STANDARD
BEGIN:DAYLIGHT
TZOFFSETFROM:+0100
TZOFFSETTO:+0200
TZNAME:CEST
DTSTART:20240331T010000
END:DAYLIGHT
BEGIN:STANDARD
TZOFFSETFROM:+0200
TZOFFSETTO:+0100
TZNAME:CET
DTSTART:20241027T010000
END:STANDARD
END:VTIMEZONE
BEGIN:VEVENT
DTSTART;TZID=Europe/Paris:20231109T140000
DTEND;TZID=Europe/Paris:20231109T153000
DTSTAMP:20260422T040411
CREATED:20230912T093705Z
LAST-MODIFIED:20250221T080003Z
UID:48015-1699538400-1699543800@crisco.unicaen.fr
SUMMARY:TAL des langues à corpus restreint : construire en interface avec les communautés parlantes (Mélanie Jouitteau)
DESCRIPTION:Résumé :\n\n\n\nPrésentée dans le cadre du Seminaire du CRISCO (Axe 2: « Recherche linguistique appliquée à des pratiques et à la production des ressources électroniques« )\, cette conférence fait le tour d’une palette d’outils pour la documentation des langues à corpus restreint\, avec des exemples empiriques tirés du breton et d’autres langues minorisées de l’État français. La présentation construit une discussion sur les outils tant sociétaux qu’informatiques à créer pour l’accélération des constitutions de ressources pour les langues peu dotées\, dans une volonté de mise en réseau horizontale des développeurs TAL\, des communautés de linguistes universitaires et des communautés parlantes. \n\n\n\nDans un premier temps\, je présente la wikigrammaire ARBRES (2009-2023) des dialectes du breton\, sous l’angle d’une ressource interactive en interface avec la communauté parlante. Cette wikigrammaire construit incrémentalement l’annotation d’une banque de données récupérable pour du traitement automatique. Je présente l’extraction en cours pour la constitution d’un corpus UD avec l’ANR Autogramm. \n\n\n\nJe présente ensuite la nouvelle version du site Entrelangues (2010-2023)\, qui documente pour les langues de l’État français les critères de vitalité des langues selon l’Unesco\, les ressources d’études linguistiques descriptives et formelles\, ainsi que\, pour un nouveau chantier d’extension du site en collaboration avec le Modyco (Paris Nanterre)\, les ressources en traitement automatique (corpus\, outils informatiques).  \n\n\n\nEnfin\, je présente une ressource pédagogique en ligne réalisée en collaboration avec l’ingénieure pédagogique Lynda Kehli (DORANUM pour la science ouverte). Ce cours en ligne reprend les infos du guide de survie pour les langues minorisées\, et présente pour un public large (mais motivé) les bases nécessaires au développement d’outils TAL. \n\n\n\nPrésenté par : \n\n\n\nMélanie Jouitteau est chercheuse en sciences du langage au CNRS à IKER (Bayonne\, U. Pau & Bordeaux)\, spécialisée sur le breton\, la science ouverte et citoyenne
URL:https://crisco.unicaen.fr/evenement/conference-de-melanie-jouitteau-chercheuse-au-cnrs/
LOCATION:Caen · Campus 1 · CRISCO · Salle de documentation\, Centre de recherche CRISCO\, Caen\, 14000\, France
CATEGORIES:Séminaire
END:VEVENT
END:VCALENDAR